BEGIN:VCALENDAR
VERSION:2.0
PRODID:-//Mountain Bike Narooma - ECPv5.3.2.1//NONSGML v1.0//EN
CALSCALE:GREGORIAN
METHOD:PUBLISH
X-WR-CALNAME:Mountain Bike Narooma
X-ORIGINAL-URL:https://www.mountainbikenarooma.com.au
X-WR-CALDESC:Events for Mountain Bike Narooma
BEGIN:VTIMEZONE
TZID:Australia/Melbourne
BEGIN:STANDARD
TZOFFSETFROM:+1100
TZOFFSETTO:+1000
TZNAME:AEST
DTSTART:20210403T160000
END:STANDARD
BEGIN:DAYLIGHT
TZOFFSETFROM:+1000
TZOFFSETTO:+1100
TZNAME:AEDT
DTSTART:20211002T160000
END:DAYLIGHT
END:VTIMEZONE
BEGIN:VEVENT
DTSTART;TZID=Australia/Melbourne:20210303T171500
DTEND;TZID=Australia/Melbourne:20210303T180000
DTSTAMP:20210226T155008
CREATED:20210126T014144Z
LAST-MODIFIED:20210126T014144Z
UID:1472-1614791700-1614794400@www.mountainbikenarooma.com.au
SUMMARY:Social Ride - Wednesday Afternoon
DESCRIPTION:Everyone is welcome on this social ride. Meet at car park on Box Cutting Road and we will ride a loop of about 40 minutes. All levels of riders welcome. \nMeet at 5.15pm.
URL:https://www.mountainbikenarooma.com.au/event/social-ride-wednesday-afternoon-2/
END:VEVENT
END:VCALENDAR