BEGIN:VCALENDAR
VERSION:2.0
PRODID:-//Mountain Bike Narooma - ECPv5.3.2.1//NONSGML v1.0//EN
CALSCALE:GREGORIAN
METHOD:PUBLISH
X-WR-CALNAME:Mountain Bike Narooma
X-ORIGINAL-URL:https://www.mountainbikenarooma.com.au
X-WR-CALDESC:Events for Mountain Bike Narooma
BEGIN:VTIMEZONE
TZID:Australia/Melbourne
BEGIN:STANDARD
TZOFFSETFROM:+1100
TZOFFSETTO:+1000
TZNAME:AEST
DTSTART:20210403T160000
END:STANDARD
BEGIN:DAYLIGHT
TZOFFSETFROM:+1000
TZOFFSETTO:+1100
TZNAME:AEDT
DTSTART:20211002T160000
END:DAYLIGHT
END:VTIMEZONE
BEGIN:VEVENT
DTSTART;TZID=Australia/Melbourne:20210207T080000
DTEND;TZID=Australia/Melbourne:20210207T100000
DTSTAMP:20210226T154922
CREATED:20210126T014144Z
LAST-MODIFIED:20210126T014144Z
UID:1517-1612684800-1612692000@www.mountainbikenarooma.com.au
SUMMARY:Ladies Social Ride
DESCRIPTION:Following our ladies only coaching events this social ride will be a good way to put your new skills to the test. The guided ride will take you on a loop of either Willy Wossell or Big Ass Flies and return. \nWe can stop along the way and “session” obstacles so you gain more confidence. This is a no pressure ride.
URL:https://www.mountainbikenarooma.com.au/event/ladies-social-ride-4/
END:VEVENT
END:VCALENDAR