BEGIN:VCALENDAR
VERSION:2.0
PRODID:-//Mountain Bike Narooma - ECPv5.3.2.1//NONSGML v1.0//EN
CALSCALE:GREGORIAN
METHOD:PUBLISH
X-WR-CALNAME:Mountain Bike Narooma
X-ORIGINAL-URL:https://www.mountainbikenarooma.com.au
X-WR-CALDESC:Events for Mountain Bike Narooma
BEGIN:VTIMEZONE
TZID:Australia/Melbourne
BEGIN:STANDARD
TZOFFSETFROM:+1100
TZOFFSETTO:+1000
TZNAME:AEST
DTSTART:20210403T160000
END:STANDARD
BEGIN:DAYLIGHT
TZOFFSETFROM:+1000
TZOFFSETTO:+1100
TZNAME:AEDT
DTSTART:20211002T160000
END:DAYLIGHT
END:VTIMEZONE
BEGIN:VEVENT
DTSTART;TZID=Australia/Melbourne:20210326T170000
DTEND;TZID=Australia/Melbourne:20210326T183000
DTSTAMP:20210226T155053
CREATED:20210126T014144Z
LAST-MODIFIED:20210126T014144Z
UID:1456-1616778000-1616783400@www.mountainbikenarooma.com.au
SUMMARY:Friday Night Shuttles
DESCRIPTION:Meet Friday night at 5pm on the Red Knob Road parking area. We will shuttle Willy Wossell and Big Ass flies. Everyone is welcome to this social ride.
URL:https://www.mountainbikenarooma.com.au/event/friday-night-shuttles/
ORGANIZER;CN="Narooma%20Mountain%20Bike%20Club":MAILTO:info@mountainbikenarooma.com.au
END:VEVENT
END:VCALENDAR